BEGIN:VCALENDAR
VERSION:2.0
PRODID:-//ChamberMaster//Event Calendar 2.0//EN
METHOD:PUBLISH
X-PUBLISHED-TTL:P3D
REFRESH-INTERVAL:P3D
CALSCALE:GREGORIAN
BEGIN:VEVENT
DTSTART:20260325T150000Z
DTEND:20260325T163000Z
X-MICROSOFT-CDO-ALLDAYEVENT:FALSE
SUMMARY:Veterans Creative Expressions Workshop
DESCRIPTION:Artist Mary Wentzel will guide participants in creating a metal embossed picture frame. All materials are provided and no art experience is necessary! Open to U.S. veterans and current service members\, but a family member or friend (age 16+) may also register.
X-ALT-DESC;FMTTYPE=text/html:Artist Mary Wentzel will guide participants in creating a metal embossed picture frame. All materials are provided and no art experience is necessary! Open to U.S. veterans and current service members\, but a family member or friend (age 16+) may also register.
LOCATION:Ormond Memorial Art Museum
UID:e.2974.25707
SEQUENCE:3
DTSTAMP:20260422T123745Z
URL:https://business.ormondchamber.com/events/details/veterans-creative-expressions-workshop-03-25-2026-25707
END:VEVENT

END:VCALENDAR
