BEGIN:VCALENDAR
VERSION:2.0
PRODID:-//ChamberMaster//Event Calendar 2.0//EN
METHOD:PUBLISH
X-PUBLISHED-TTL:P3D
REFRESH-INTERVAL:P3D
CALSCALE:GREGORIAN
BEGIN:VEVENT
DTSTART:20191225T160000Z
DTEND:20191225T210000Z
X-MICROSOFT-CDO-ALLDAYEVENT:FALSE
SUMMARY:Tinsel Brunch at the Hilton Daytona Beach Oceanfront Resort
DESCRIPTION:Add a little Hilton to your holiday! \n\nJoin us for our Tinsel Buffet Christmas Brunch on the oceanfront. The culinary team is preparing a lavish buffet menu featuring a chicken & waffle station\, seafood station\, carving station\, baked goods\, holiday desserts and chilled display with cheeses\, seasonal fruits and fresh vegetables. Adults are $55 per person and children ages five to 12 are $19 per person. Prices include complimentary valet parking and non-alcoholic beverages. Reservations can be made by phone at (386) 947-8054. \n\n\n\nDine in a serene holiday setting overlooking the stunning Atlantic Ocean in our oceanfront Coquina foyer. Seating times are 11:00 AM\, 12:00 PM\, 1:00 PM\, 2:00 PM and 3:00 PM. Brunch will remain open until 4:00 PM for the final seating time.
X-ALT-DESC;FMTTYPE=text/html:<span style="background-color:rgb(255\, 255\, 255)\; color:rgb(29\, 33\, 41)\; font-family:helvetica\,arial\,sans-serif\; font-size:14px">Add a little Hilton to your holiday! </span><br />\n<span style="background-color:rgb(255\, 255\, 255)\; color:rgb(29\, 33\, 41)\; font-family:helvetica\,arial\,sans-serif\; font-size:14px">Join us for our Tinsel Buffet Christmas Brunch on the oceanfront. The culinary team is preparing a lavish buffet menu featuring a chicken &amp\; waffle station\, seafood station\, carving station\, baked goods\, holiday desserts and chilled display with cheeses\, seasonal fruits and fresh vegetables. Adults are $55 per person and children ages five to 12 are $19 per person. Prices include complimentary valet parking and non-alcoholic beverages. Reservations can be made by phone at (386) 947-8054. </span><br />\n<br />\n<span style="background-color:rgb(255\, 255\, 255)\; color:rgb(29\, 33\, 41)\; font-family:helvetica\,arial\,sans-serif\; font-size:14px">Dine in a serene holiday setting overlooking the stunning Atlantic Ocean in our oceanfront Coquina foyer. Seating times are 11:00 AM\, 12:00 PM\, 1:00 PM\, 2:00 PM and 3:00 PM. Brunch will remain open until 4:00 PM for the final seating time.</span>
LOCATION:Hilton Daytona Beach Oceanfront Resort 100 N. Atlantic Ave. Daytona Beach\, FL 32118
UID:e.2974.11608
SEQUENCE:3
DTSTAMP:20260422T091356Z
URL:https://business.ormondchamber.com/events/details/tinsel-brunch-at-the-hilton-daytona-beach-oceanfront-resort-11608
END:VEVENT

END:VCALENDAR
