BEGIN:VCALENDAR
VERSION:2.0
PRODID:-//ChamberMaster//Event Calendar 2.0//EN
METHOD:PUBLISH
X-PUBLISHED-TTL:P3D
REFRESH-INTERVAL:P3D
CALSCALE:GREGORIAN
BEGIN:VEVENT
DTSTART:20260319T150000Z
DTEND:20260319T160000Z
X-MICROSOFT-CDO-ALLDAYEVENT:FALSE
SUMMARY:Third Thursday Docent Tour
DESCRIPTION:This tour includes the reception gallery\, where select pieces from OMAM's Malcolm Fraser collection are on display\; the stairway gallery to see John Wilton's Modular Art Panels\; a walk through the Gardens to learn more about the Military Tributes\; and a tour of the historic Emmons Cottage. The tour concludes with tea on the museum's Rooftop Terrace. No advanced registration is required\; meet inside the Museum's reception gallery by 11 am.
X-ALT-DESC;FMTTYPE=text/html:This tour includes the reception gallery\, where select pieces from OMAM&rsquo\;s Malcolm Fraser collection are on display\; the stairway gallery to see John Wilton&rsquo\;s Modular Art Panels\; a walk through the Gardens to learn more about the Military Tributes\; and a tour of the historic Emmons Cottage. The tour concludes with tea on the museum&rsquo\;s Rooftop Terrace. No advanced registration is required\; meet inside the Museum&rsquo\;s reception gallery by 11 am.
LOCATION:Ormond Memorial Art Museum & Gardens
UID:e.2974.25706
SEQUENCE:3
DTSTAMP:20260422T123705Z
URL:https://business.ormondchamber.com/events/details/third-thursday-docent-tour-03-19-2026-25706
END:VEVENT

END:VCALENDAR
