BEGIN:VCALENDAR
VERSION:2.0
PRODID:-//ChamberMaster//Event Calendar 2.0//EN
METHOD:PUBLISH
X-PUBLISHED-TTL:P3D
REFRESH-INTERVAL:P3D
CALSCALE:GREGORIAN
BEGIN:VEVENT
DTSTART:20250401T143000Z
DTEND:20250401T153000Z
X-MICROSOFT-CDO-ALLDAYEVENT:FALSE
SUMMARY:The Tech Tutor
DESCRIPTION:With technology changing almost daily it's very hard to stay on top of it all. The Tech Tutor provides group trainings to help with accessing technology. No matter your age bracket\, or skill level\, you can always learn how to get the most out of your phone\, laptop\, or tablet.
X-ALT-DESC;FMTTYPE=text/html:<p>With technology changing almost daily it&#39\;s very hard to stay on top of it all. The Tech Tutor provides group trainings to help with accessing technology. No matter your age bracket\, or skill level\, you can always learn how to get the most out of your phone\, laptop\, or tablet.</p>\n
LOCATION:Ormond in the Pines 101 Clyde Morris Blvd Ormond Beach\, FL 32174
UID:e.2974.23124
SEQUENCE:3
DTSTAMP:20260424T135244Z
URL:https://business.ormondchamber.com/events/details/the-tech-tutor-04-01-2025-23124
END:VEVENT

END:VCALENDAR
