BEGIN:VCALENDAR
VERSION:2.0
PRODID:-//ChamberMaster//Event Calendar 2.0//EN
METHOD:PUBLISH
X-PUBLISHED-TTL:P3D
REFRESH-INTERVAL:P3D
CALSCALE:GREGORIAN
BEGIN:VEVENT
DTSTART:20260327T150000Z
DTEND:20260327T170000Z
X-MICROSOFT-CDO-ALLDAYEVENT:FALSE
SUMMARY:Spring Container Garden Workshop
DESCRIPTION:Celebrate the new season by making a beautiful container garden using spring flowers with instruction from OMAM Garden Artisan Janett Taylor. Class tuition includes all supplies.
X-ALT-DESC;FMTTYPE=text/html:Celebrate the new season by making a beautiful container garden using spring flowers with instruction from OMAM Garden Artisan Janett Taylor. Class tuition includes all supplies.
LOCATION:Ormond Memorial Art Museum & Gardens
UID:e.2974.25708
SEQUENCE:3
DTSTAMP:20260422T123451Z
URL:https://business.ormondchamber.com/events/details/spring-container-garden-workshop-25708
END:VEVENT

END:VCALENDAR
