BEGIN:VCALENDAR
VERSION:2.0
PRODID:-//ChamberMaster//Event Calendar 2.0//EN
METHOD:PUBLISH
X-PUBLISHED-TTL:P3D
REFRESH-INTERVAL:P3D
CALSCALE:GREGORIAN
BEGIN:VEVENT
DTSTART:20260313T180000Z
DTEND:20260313T193000Z
X-MICROSOFT-CDO-ALLDAYEVENT:FALSE
SUMMARY:School's Out for Art Youth Workshop
DESCRIPTION:On this school holiday\, students ages 5 to 12 are invited to get off their sofa and join OMAM's S.O.F.A. workshop with youth curator Emma Dennison. Students will create a polka dot painting inspired by the "Spot Paintings" of Damien Hirst. All supplies are included and seats are limited\, so early sign-up highly encouraged.
X-ALT-DESC;FMTTYPE=text/html:On this school holiday\, students ages 5 to 12 are invited to get off their sofa and join OMAM&rsquo\;s S.O.F.A. workshop with youth curator Emma Dennison. Students will create a polka dot painting inspired by the &ldquo\;Spot Paintings&rdquo\; of Damien Hirst. All supplies are included and seats are limited\, so early sign-up highly encouraged.
LOCATION:Ormond Memorial Art Museum
UID:e.2974.25703
SEQUENCE:3
DTSTAMP:20260422T124058Z
URL:https://business.ormondchamber.com/events/details/school-s-out-for-art-youth-workshop-03-13-2026-25703
END:VEVENT

END:VCALENDAR
