BEGIN:VCALENDAR
VERSION:2.0
PRODID:-//ChamberMaster//Event Calendar 2.0//EN
METHOD:PUBLISH
X-PUBLISHED-TTL:P3D
REFRESH-INTERVAL:P3D
CALSCALE:GREGORIAN
BEGIN:VEVENT
DTSTART;VALUE=DATE:20250328
DTEND;VALUE=DATE:20250329
TRANSP:TRANSPARENT
X-MICROSOFT-CDO-ALLDAYEVENT:TRUE
SUMMARY:Rob Ridder Scholarship Applications Due
DESCRIPTION:Rob Ridder Scholarship applications are due today
X-ALT-DESC;FMTTYPE=text/html:Rob Ridder Scholarship applications are due today
LOCATION:Ormond Beach Chamber of Commerce or email to Ptropea@ormondchamber.com
UID:e.2974.24583
SEQUENCE:3
DTSTAMP:20260424T114435Z
URL:https://business.ormondchamber.com/events/details/rob-ridder-scholarship-applications-due-24583
END:VEVENT

END:VCALENDAR
