BEGIN:VCALENDAR
VERSION:2.0
PRODID:-//ChamberMaster//Event Calendar 2.0//EN
METHOD:PUBLISH
X-PUBLISHED-TTL:P3D
REFRESH-INTERVAL:P3D
CALSCALE:GREGORIAN
BEGIN:VEVENT
DTSTART:20170504T200000Z
DTEND:20170504T210000Z
X-MICROSOFT-CDO-ALLDAYEVENT:FALSE
SUMMARY:Ribbon Cutting Rent Me Homes!
DESCRIPTION:Ribbon Cutting RENT ME HOMES!
X-ALT-DESC;FMTTYPE=text/html:<span style="font-size:26px\;">Ribbon Cutting RENT ME HOMES!</span>
LOCATION:Rent Me Homes 57 West Granada Blvd. Ormond Beach
UID:e.2974.256
SEQUENCE:3
DTSTAMP:20260424T183829Z
URL:https://business.ormondchamber.com/events/details/ribbon-cutting-rent-me-homes-256
END:VEVENT

END:VCALENDAR
