BEGIN:VCALENDAR
VERSION:2.0
PRODID:-//ChamberMaster//Event Calendar 2.0//EN
METHOD:PUBLISH
X-PUBLISHED-TTL:P3D
REFRESH-INTERVAL:P3D
CALSCALE:GREGORIAN
BEGIN:VEVENT
DTSTART:20170515T210000Z
DTEND:20170515T220000Z
X-MICROSOFT-CDO-ALLDAYEVENT:FALSE
SUMMARY:Ribbon Cutting Realty Pros
DESCRIPTION:Realty Pros Commercial Ribbon Cutting Celebration
X-ALT-DESC;FMTTYPE=text/html:Realty Pros Commercial Ribbon Cutting Celebration
LOCATION:Realty Pros Commercial 211 International Blvd. Suite 104 Daytona Beach
UID:e.2974.252
SEQUENCE:3
DTSTAMP:20260424T183027Z
URL:https://business.ormondchamber.com/events/details/ribbon-cutting-realty-pros-252
END:VEVENT

END:VCALENDAR
