BEGIN:VCALENDAR
VERSION:2.0
PRODID:-//ChamberMaster//Event Calendar 2.0//EN
METHOD:PUBLISH
X-PUBLISHED-TTL:P3D
REFRESH-INTERVAL:P3D
CALSCALE:GREGORIAN
BEGIN:VEVENT
DTSTART:20170803T200000Z
DTEND:20170803T210000Z
X-MICROSOFT-CDO-ALLDAYEVENT:FALSE
SUMMARY:Prime Lending Ribbon Cutting
DESCRIPTION:Prime Lending Ribbon Cutting
X-ALT-DESC;FMTTYPE=text/html:Prime Lending Ribbon Cutting&nbsp\;&nbsp\;&nbsp\;&nbsp\;
LOCATION:Kress Building 140 South Beach Street Daytona Beach
UID:e.2974.3662
SEQUENCE:3
DTSTAMP:20260424T133914Z
URL:https://business.ormondchamber.com/events/details/prime-lending-ribbon-cutting-3662
END:VEVENT

END:VCALENDAR
