BEGIN:VCALENDAR
VERSION:2.0
PRODID:-//ChamberMaster//Event Calendar 2.0//EN
METHOD:PUBLISH
X-PUBLISHED-TTL:P3D
REFRESH-INTERVAL:P3D
CALSCALE:GREGORIAN
BEGIN:VEVENT
DTSTART:20240610T130000Z
DTEND:20240614T190000Z
X-MICROSOFT-CDO-ALLDAYEVENT:FALSE
SUMMARY:ORMOND BEACH 2024 SUMMER CAMP
DESCRIPTION:The Discover & Explore Ormond Beach Summer Camp will provide a fun\, engaging\, and creative five-day history camp for kids to explore\, discover and unlock the secrets of Ormond Beach. Featuring field trips\, games\, crafts\, storytelling and more! OBHS aims to introduce children ages 8 - 11 to the city of Ormond Beach at an early age to broaden their awareness and appreciation of themselves and the extraordinary city in which they live.
X-ALT-DESC;FMTTYPE=text/html:The Discover &amp\; Explore Ormond Beach Summer Camp will provide a fun\, engaging\, and creative five-day history camp for kids to explore\, discover and unlock the secrets of Ormond Beach. Featuring field trips\, games\, crafts\, storytelling and more! OBHS aims to introduce children ages 8 - 11 to the city of Ormond Beach at an early age to broaden their awareness and appreciation of themselves and the extraordinary city in which they live.
LOCATION:Anderson-Price Memorial Building
UID:e.2974.23837
SEQUENCE:3
DTSTAMP:20260422T045914Z
URL:https://business.ormondchamber.com/events/details/ormond-beach-2024-summer-camp-23837
END:VEVENT

END:VCALENDAR
