BEGIN:VCALENDAR
VERSION:2.0
PRODID:-//ChamberMaster//Event Calendar 2.0//EN
METHOD:PUBLISH
X-PUBLISHED-TTL:P3D
REFRESH-INTERVAL:P3D
CALSCALE:GREGORIAN
BEGIN:VEVENT
DTSTART:20260317T203000Z
DTEND:20260317T213000Z
X-MICROSOFT-CDO-ALLDAYEVENT:FALSE
SUMMARY:OMAM Art Book Club
DESCRIPTION:The OMAM Guild is excited to host the inaugural meeting of the OMAM Art Book Club\, a new program in celebration of OMAM's 80th Anniversary. The first book is The Secret Life of Sunflowers by Marta Molnar\, a captivating novel inspired by Vincent van Gogh and the women who helped shape his artistic legacy. Following that\, the group will meet at OMAM approximately every six weeks to discuss a selected art-themed book in a relaxed setting\; refreshments will be provided. Participants are encouraged to suggest future titles\, helping to curate a dynamic reading list centered on artists' lives\, art history\, historical fiction\, and stories that explore the enduring power of creative expression in the visual arts.
X-ALT-DESC;FMTTYPE=text/html:The OMAM Guild is excited to host the inaugural meeting of the OMAM Art Book Club\, a new program in celebration of OMAM&rsquo\;s 80th Anniversary. The first book is The Secret Life of Sunflowers by Marta Molnar\, a captivating novel inspired by Vincent van Gogh and the women who helped shape his artistic legacy. Following that\, the group will meet at OMAM approximately every six weeks to discuss a selected art-themed book in a relaxed setting\; refreshments will be provided. Participants are encouraged to suggest future titles\, helping to curate a dynamic reading list centered on artists&rsquo\; lives\, art history\, historical fiction\, and stories that explore the enduring power of creative expression in the visual arts.
LOCATION:Ormond Memorial Art Museum
UID:e.2974.25704
SEQUENCE:3
DTSTAMP:20260422T123914Z
URL:https://business.ormondchamber.com/events/details/omam-art-book-club-25704
END:VEVENT

END:VCALENDAR
