BEGIN:VCALENDAR
VERSION:2.0
PRODID:-//ChamberMaster//Event Calendar 2.0//EN
METHOD:PUBLISH
X-PUBLISHED-TTL:P3D
REFRESH-INTERVAL:P3D
CALSCALE:GREGORIAN
BEGIN:VEVENT
DTSTART:20240418T153000Z
DTEND:20240418T190000Z
X-MICROSOFT-CDO-ALLDAYEVENT:FALSE
SUMMARY:News with Claire Metz and Maureen McCann
DESCRIPTION:Claire Metz worked in Central Florida television for over 40 years until her retirement in October 2023. For most of those years\, she was with WESH 2 News. Claire was a street reporter and later\, an anchor\, interviewing thousands of people and bringing details of important events to the community\, including hurricane coverage. \n\n\n\nShe has won numerous awards in her journalism career\, including an Emmy. \n\n\n\n\n\nMaureen McCann is a meteorologist with Spectrum News 13\, where she has been since 2013. She is a graduate of Cornell University with a BS  in Atmospheric Science. She is a storm chaser as well\, where her work with Tim Samaras' TWISTEX research team resulted in an Emmy award winning special. \n\n\n\nMaureen also holds a masters degree in Emergency and Crisis Management from UCF and a graduate certificate in Geographic Information Systems. \n\n\n\nJoin us for a look behind the news curtain and meet two of Central Florida's local TV celebs!
X-ALT-DESC;FMTTYPE=text/html:Claire Metz worked in Central Florida television for over 40 years until her retirement in October 2023. For most of those years\, she was with WESH 2 News. Claire was a street reporter and later\, an anchor\, interviewing thousands of people and bringing details of important events to the community\, including hurricane coverage.&nbsp\;<br />\n<br />\nShe has won numerous awards in her journalism career\, including an Emmy.&nbsp\;<br />\n<br />\n<br />\nMaureen McCann is a meteorologist with Spectrum News 13\, where she has been since 2013. She is a graduate of Cornell University with a BS&nbsp\; in Atmospheric Science. She is a storm chaser as well\, where her work with Tim Samaras&#39\; TWISTEX research team resulted in an Emmy award winning special.&nbsp\;<br />\n<br />\nMaureen also holds a masters degree in Emergency and Crisis Management from UCF and a graduate certificate in Geographic Information Systems.&nbsp\;<br />\n<br />\nJoin us for a look behind the news curtain and meet two of Central Florida&#39\;s local TV celebs!
LOCATION:Ormond in the Pines 101 Clyde Morris Blvd Ormond Beach\, FL 32174
UID:e.2974.23825
SEQUENCE:3
DTSTAMP:20260423T091618Z
URL:https://business.ormondchamber.com/events/details/news-with-friends-23825
END:VEVENT

END:VCALENDAR
