BEGIN:VCALENDAR
VERSION:2.0
PRODID:-//ChamberMaster//Event Calendar 2.0//EN
METHOD:PUBLISH
X-PUBLISHED-TTL:P3D
REFRESH-INTERVAL:P3D
CALSCALE:GREGORIAN
BEGIN:VEVENT
DTSTART:20170609T120000Z
DTEND:20170609T133000Z
X-MICROSOFT-CDO-ALLDAYEVENT:FALSE
SUMMARY:New Member Orientation
DESCRIPTION:New Member Orientation\n\nThe New Member Orientation is a Informative meeting discussing benefits of being a member with the Ormond Beach Chamber. They're will be introductions to Board Members\, V.P.'s and YOU!\n\nBreakfast will be served.\n\nRegister on line
X-ALT-DESC;FMTTYPE=text/html:New Member Orientation<br />\n<span style="color: rgb(51\, 51\, 51)\; font-family: sans-serif\, Arial\, Verdana\, &quot\;Trebuchet MS&quot\;\; font-size: 13px\; background-color: rgb(255\, 255\, 255)\;">The New Member Orientation is a Informative meeting discussing benefits of being a member with the Ormond Beach Chamber. They&#39\;re&nbsp\;will be introductions to Board Members\, V.P.&#39\;s and YOU!</span><br style="color: rgb(51\, 51\, 51)\; font-family: sans-serif\, Arial\, Verdana\, &quot\;Trebuchet MS&quot\;\; font-size: 13px\;" />\n<span style="color: rgb(51\, 51\, 51)\; font-family: sans-serif\, Arial\, Verdana\, &quot\;Trebuchet MS&quot\;\; font-size: 13px\; background-color: rgb(255\, 255\, 255)\;">Breakfast will be served.</span>\n\n<div><font color="#333333" face="sans-serif\, Arial\, Verdana\, Trebuchet MS"><span style="font-size: 13px\; background-color: rgb(255\, 255\, 255)\;">Register on line</span></font></div>\n
LOCATION:Ormond Beach Chamber of Commerce 165 W. Granada Ormond Beach
UID:e.2974.2412
SEQUENCE:3
DTSTAMP:20260424T171210Z
URL:https://business.ormondchamber.com/events/details/new-member-orientation-2412
END:VEVENT

END:VCALENDAR
