BEGIN:VCALENDAR
VERSION:2.0
PRODID:-//ChamberMaster//Event Calendar 2.0//EN
METHOD:PUBLISH
X-PUBLISHED-TTL:P3D
REFRESH-INTERVAL:P3D
CALSCALE:GREGORIAN
BEGIN:VEVENT
DTSTART:20260320T233000Z
DTEND:20260321T010000Z
X-MICROSOFT-CDO-ALLDAYEVENT:FALSE
SUMMARY:Movie with a Cop in Holly Hill!
DESCRIPTION:Join the Holly Hill Police Department for an evening under the stars at our next Movie with a Cop on March 20 at 7:30 PM!\n\n\n\nGather the family\, bring your lawn chairs &/or blankets and enjoy a\n\nspecial outdoor showing of Zootopia 2.\n\n\n\nThis event is completely free and open to the community.\n\n\n\nFree popcorn and water will also be provided while supplies last.\n\n\n\nA big thank-you to our presenting sponsors\;\n\nFastSigns and Clarks Family Auto Sales for helping make this event possible!
X-ALT-DESC;FMTTYPE=text/html:<br />\n<span style="font-size:16px\;">Join the Holly Hill Police Department for an evening under the stars at our next Movie with a Cop on March 20 at 7:30 PM!<br />\n<br />\nGather the family\, bring your lawn chairs &amp\;/or blankets and enjoy a<br />\nspecial outdoor showing of Zootopia 2.<br />\n<br />\nThis event is completely free and open to the community.<br />\n<br />\nFree popcorn and water will also be provided while supplies last.<br />\n<br />\nA big thank-you to our presenting sponsors\;<br />\nFastSigns and Clarks Family Auto Sales for helping make this event possible!</span>
LOCATION:Holly Hill City Hall Lawn 1065 Ridgewood Ave Holly Hill\, FL 32117
UID:e.2974.25712
SEQUENCE:3
DTSTAMP:20260424T134549Z
URL:https://business.ormondchamber.com/events/details/movie-with-a-cop-in-holly-hill-25712
END:VEVENT

END:VCALENDAR
