BEGIN:VCALENDAR
VERSION:2.0
PRODID:-//ChamberMaster//Event Calendar 2.0//EN
METHOD:PUBLISH
X-PUBLISHED-TTL:P3D
REFRESH-INTERVAL:P3D
CALSCALE:GREGORIAN
BEGIN:VEVENT
DTSTART:20260319T160000Z
DTEND:20260319T180000Z
X-MICROSOFT-CDO-ALLDAYEVENT:FALSE
SUMMARY:Mirror Mirror on the wall! Managing Hormonal Skin Challenges
DESCRIPTION:Join us and learn how to manage frustrating skin challenges due to hormonal changes including those related to Menopause!\nI remember looking in the mirror and not recognizing my own reflection! It seemed that everything changed overnight and everything I was experiencing on the inside was as written all over my face! \n\nSound familiar?\n\nHowever\, my experiences in the Beauty and Skin Care industry for 25+ years gave me an advantage to fix what had broken. Now I get to share with others simple\, uncomplicated beauty routines\, with easy tips to overcome the skin and make up challenges brought on by hormonal changes including Menopause with great results! \n\n\n\nJoin us for an informative How-To Workshop which includes optional Express Skin Reset Facial too!\n\nI want you to Love the Skin your in again!
X-ALT-DESC;FMTTYPE=text/html:<span style="font-size:14px"><strong>Join us and learn how to manage frustrating skin challenges due to hormonal changes including those related to Menopause!</strong></span>\n<p><strong>I remember looking in the mirror and not recognizing my own reflection!</strong><strong>&nbsp\;It seemed that everything changed overnight and e</strong><strong>verything I was experiencing on the inside was as written all over my face!&nbsp\;<br />\nSound familiar?</strong></p>\n\n<p><strong>However\, my experiences in the Beauty and Skin Care industry for 25+ years gave me an advantage to fix what had broken.</strong><strong> </strong><strong>Now I get to share with others simple\, uncomplicated beauty routines\, with easy tips to overcome the skin and make up challenges brought on by hormonal changes including Menopause with great results!</strong><strong> </strong><br />\n<br />\n<strong>Join us for an informative How-To Workshop which includes optional Express Skin Reset Facial too!<br />\nI want you to Love the Skin your in again!</strong></p>\n
LOCATION:Ormond Beach Chamber of Commerce Office 165 W Granada Blvd. Ormond Beach\, Fl 32174
UID:e.2974.25693
SEQUENCE:3
DTSTAMP:20260422T123952Z
URL:https://business.ormondchamber.com/events/details/mirror-mirror-on-the-wall-managing-hormonal-skin-challenges-25693
END:VEVENT

END:VCALENDAR
