BEGIN:VCALENDAR
VERSION:2.0
PRODID:-//ChamberMaster//Event Calendar 2.0//EN
METHOD:PUBLISH
X-PUBLISHED-TTL:P3D
REFRESH-INTERVAL:P3D
CALSCALE:GREGORIAN
BEGIN:VEVENT
DTSTART:20260318T180000Z
DTEND:20260318T193000Z
X-MICROSOFT-CDO-ALLDAYEVENT:FALSE
SUMMARY:Lecture: The Golden Age of Dutch Painting
DESCRIPTION:Join guest curator\, Ruth Grim in the OMAM Boardroom for a fascinating look at the Dutch Golden Age. Beginning with the iconic paintings of Jan Van Eyck (9C.1380/1390   1441) and the other Early Netherlandish paintings that first developed the technique of oil painting in Europe\, this lecture will follow Northern Renaissance painting into the triumph that was the Dutch Golden Age. Many of the most famous names in art history will be on this roster including\, Brueghel\, Bosch\, Rembrandt\, and Vermeer\, to name only a few. Come see and learn more about some of the most well-known works of art\, as well as many more.
X-ALT-DESC;FMTTYPE=text/html:Join guest curator\, Ruth Grim in the OMAM Boardroom for a fascinating look at the Dutch Golden Age. Beginning with the iconic paintings of Jan Van Eyck (9C.1380/1390 &ndash\; 1441) and the other Early Netherlandish paintings that first developed the technique of oil painting in Europe\, this lecture will follow Northern Renaissance painting into the triumph that was the Dutch Golden Age. Many of the most famous names in art history will be on this roster including\, Brueghel\, Bosch\, Rembrandt\, and Vermeer\, to name only a few. Come see and learn more about some of the most well-known works of art\, as well as many more.
LOCATION:Ormond Memorial Art Museum
UID:e.2974.25705
SEQUENCE:3
DTSTAMP:20260422T124300Z
URL:https://business.ormondchamber.com/events/details/lecture-the-golden-age-of-dutch-painting-25705
END:VEVENT

END:VCALENDAR
