BEGIN:VCALENDAR
VERSION:2.0
PRODID:-//ChamberMaster//Event Calendar 2.0//EN
METHOD:PUBLISH
X-PUBLISHED-TTL:P3D
REFRESH-INTERVAL:P3D
CALSCALE:GREGORIAN
BEGIN:VEVENT
DTSTART:20250430T120000Z
DTEND:20250430T173000Z
X-MICROSOFT-CDO-ALLDAYEVENT:FALSE
SUMMARY:Leadership Ormond Beach XXI
DESCRIPTION:Leadership Ormond Beach XXI
X-ALT-DESC;FMTTYPE=text/html:Leadership Ormond Beach XXI&nbsp\;
LOCATION:Economic Development Day
UID:e.2974.24577
SEQUENCE:3
DTSTAMP:20260424T132844Z
URL:https://business.ormondchamber.com/events/details/leadership-ormond-beach-xxi-24577
END:VEVENT

END:VCALENDAR
