BEGIN:VCALENDAR
VERSION:2.0
PRODID:-//ChamberMaster//Event Calendar 2.0//EN
METHOD:PUBLISH
X-PUBLISHED-TTL:P3D
REFRESH-INTERVAL:P3D
CALSCALE:GREGORIAN
BEGIN:VEVENT
DTSTART:20250423T120000Z
DTEND:20250423T173000Z
X-MICROSOFT-CDO-ALLDAYEVENT:FALSE
SUMMARY:Leadership Ormond Beach XXI
DESCRIPTION:Leadership Ormond Beach XXI \n\nNon-Profit Day
X-ALT-DESC;FMTTYPE=text/html:Leadership Ormond Beach XXI&nbsp\;<br />\nNon-Profit Day
LOCATION:
UID:e.2974.24576
SEQUENCE:3
DTSTAMP:20260424T133006Z
URL:https://business.ormondchamber.com/events/details/leadership-ormond-beach-xxi-24576
END:VEVENT

END:VCALENDAR
