BEGIN:VCALENDAR
VERSION:2.0
PRODID:-//ChamberMaster//Event Calendar 2.0//EN
METHOD:PUBLISH
X-PUBLISHED-TTL:P3D
REFRESH-INTERVAL:P3D
CALSCALE:GREGORIAN
BEGIN:VEVENT
DTSTART:20250409T120000Z
DTEND:20250409T173000Z
X-MICROSOFT-CDO-ALLDAYEVENT:FALSE
SUMMARY:Leadership Ormond Beach XXI
DESCRIPTION:Leadership Ormond Beach XXI \n\nCity Government Day
X-ALT-DESC;FMTTYPE=text/html:Leadership Ormond Beach XXI&nbsp\;<br />\nCity Government Day
LOCATION:22 South Beach Street Ormond Beach
UID:e.2974.24574
SEQUENCE:3
DTSTAMP:20260424T134346Z
URL:https://business.ormondchamber.com/events/details/leadership-ormond-beach-xxi-04-09-2025-24574
END:VEVENT

END:VCALENDAR
