BEGIN:VCALENDAR
VERSION:2.0
PRODID:-//ChamberMaster//Event Calendar 2.0//EN
METHOD:PUBLISH
X-PUBLISHED-TTL:P3D
REFRESH-INTERVAL:P3D
CALSCALE:GREGORIAN
BEGIN:VEVENT
DTSTART:20250326T160000Z
DTEND:20250326T230000Z
X-MICROSOFT-CDO-ALLDAYEVENT:FALSE
SUMMARY:Leadership Ormond Beach XXI
DESCRIPTION:Orientation Day II\n\nLeadership Skills\n\nClass Photo\n\nClass & Alumni Reception
X-ALT-DESC;FMTTYPE=text/html:<strong>Orientation Day II</strong><br />\nLeadership Skills<br />\nClass Photo<br />\nClass &amp\; Alumni Reception
LOCATION:Anderson Price Building 42 N. Beach Street
UID:e.2974.24572
SEQUENCE:3
DTSTAMP:20260424T114850Z
URL:https://business.ormondchamber.com/events/details/leadership-ormond-beach-xxi-03-26-2025-24572
END:VEVENT

END:VCALENDAR
