BEGIN:VCALENDAR
VERSION:2.0
PRODID:-//ChamberMaster//Event Calendar 2.0//EN
METHOD:PUBLISH
X-PUBLISHED-TTL:P3D
REFRESH-INTERVAL:P3D
CALSCALE:GREGORIAN
BEGIN:VEVENT
DTSTART:20250325T160000Z
DTEND:20250325T203000Z
X-MICROSOFT-CDO-ALLDAYEVENT:FALSE
SUMMARY:Leadership Ormond Beach XXI
DESCRIPTION:Leadership Ormond Beach XXI\n\nOrientation Day I
X-ALT-DESC;FMTTYPE=text/html:<br />\nLeadership Ormond Beach XXI<br />\n<strong>Orientation Day I</strong><br />\n&nbsp\;
LOCATION:Central Park 601 Hammock Lane Ormond Beach
UID:e.2974.24571
SEQUENCE:3
DTSTAMP:20260424T114747Z
URL:https://business.ormondchamber.com/events/details/leadership-ormond-beach-xxi-03-25-2025-24571
END:VEVENT

END:VCALENDAR
