BEGIN:VCALENDAR
VERSION:2.0
PRODID:-//ChamberMaster//Event Calendar 2.0//EN
METHOD:PUBLISH
X-PUBLISHED-TTL:P3D
REFRESH-INTERVAL:P3D
CALSCALE:GREGORIAN
BEGIN:VEVENT
DTSTART:20170711T130000Z
DTEND:20170711T150000Z
X-MICROSOFT-CDO-ALLDAYEVENT:FALSE
SUMMARY:KOG Board Room Booked
DESCRIPTION:Board Room Booked-KOG
X-ALT-DESC;FMTTYPE=text/html:Board Room Booked-KOG
LOCATION:
UID:e.2974.2638
SEQUENCE:3
DTSTAMP:20260424T152926Z
URL:https://business.ormondchamber.com/events/details/kog-board-room-booked-2638
END:VEVENT

END:VCALENDAR
