BEGIN:VCALENDAR
VERSION:2.0
PRODID:-//ChamberMaster//Event Calendar 2.0//EN
METHOD:PUBLISH
X-PUBLISHED-TTL:P3D
REFRESH-INTERVAL:P3D
CALSCALE:GREGORIAN
BEGIN:VEVENT
DTSTART:20260312T210000Z
DTEND:20260312T230000Z
X-MICROSOFT-CDO-ALLDAYEVENT:FALSE
SUMMARY:Exhibit Opening Reception
DESCRIPTION:OMAM invites the community to celebrate the opening of the 54th Annual Volusia Students Create. Meet the artists and enjoy light refreshments and music.
X-ALT-DESC;FMTTYPE=text/html:OMAM invites the community to celebrate the opening of the 54th Annual Volusia Students Create. Meet the artists and enjoy light refreshments and music.
LOCATION:Ormond Memorial Art Museum
UID:e.2974.25702
SEQUENCE:3
DTSTAMP:20260422T123531Z
URL:https://business.ormondchamber.com/events/details/exhibit-opening-reception-25702
END:VEVENT

END:VCALENDAR
