BEGIN:VCALENDAR
VERSION:2.0
PRODID:-//ChamberMaster//Event Calendar 2.0//EN
METHOD:PUBLISH
X-PUBLISHED-TTL:P3D
REFRESH-INTERVAL:P3D
CALSCALE:GREGORIAN
BEGIN:VEVENT
DTSTART:20250222T153000Z
DTEND:20250222T183000Z
X-MICROSOFT-CDO-ALLDAYEVENT:FALSE
SUMMARY:Digital Photography Basics
DESCRIPTION:Unlock the power of your phone camera or DSLR so you can capture the world like a pro! Join Lisette Otero-Lewis to master the basics and learn essential techniques to elevate your photos. Class will take place inside the museum classroom and out in the gardens. Open to both beginners and those looking to brush up on their skills.
X-ALT-DESC;FMTTYPE=text/html:Unlock the power of your phone camera or DSLR so you can capture the world like a pro! Join Lisette Otero-Lewis to master the basics and learn essential techniques to elevate your photos. Class will take place inside the museum classroom and out in the gardens. Open to both beginners and those looking to brush up on their skills.
LOCATION:Ormond Memorial Art Museum & Gardens
UID:e.2974.24563
SEQUENCE:3
DTSTAMP:20260422T142553Z
URL:https://business.ormondchamber.com/events/details/digital-photography-basics-24563
END:VEVENT

END:VCALENDAR
