BEGIN:VCALENDAR
VERSION:2.0
PRODID:-//ChamberMaster//Event Calendar 2.0//EN
METHOD:PUBLISH
X-PUBLISHED-TTL:P3D
REFRESH-INTERVAL:P3D
CALSCALE:GREGORIAN
BEGIN:VEVENT
DTSTART:20170518T230500Z
DTEND:20170518T230500Z
X-MICROSOFT-CDO-ALLDAYEVENT:FALSE
SUMMARY:DAYTONA TORTUGAS ORMOND CHAMBER NIGHT!
DESCRIPTION:Daytona Tortugas\n\n Ormond Beach Chamber Night!
X-ALT-DESC;FMTTYPE=text/html:Daytona Tortugas<br />\n&#8203\;Ormond Beach Chamber Night!
LOCATION:Daytona Tortugas Look for us in Section C (next to the picnic porch) Jackie Robinson Stadium 110 East Orange Avenue Daytona Beach
UID:e.2974.1471
SEQUENCE:3
DTSTAMP:20260424T203316Z
URL:https://business.ormondchamber.com/events/details/daytona-tortugas-ormond-chamber-night-1471
END:VEVENT

END:VCALENDAR
