BEGIN:VCALENDAR
VERSION:2.0
PRODID:-//ChamberMaster//Event Calendar 2.0//EN
METHOD:PUBLISH
X-PUBLISHED-TTL:P3D
REFRESH-INTERVAL:P3D
CALSCALE:GREGORIAN
BEGIN:VEVENT
DTSTART:20260219T140000Z
DTEND:20260219T150000Z
X-MICROSOFT-CDO-ALLDAYEVENT:FALSE
SUMMARY:Chamber. Coffee. Connect.
DESCRIPTION:Chamber. Coffee. Connect\n\n\n\nFormally - New Member Orientation\n\nThis program is to provide our new member's businesses an opportunity to learn about the Chamber's programs and how to best utilize their membership\, and to network with other Chamber members\n\nThis program is a Chamber Member only program.
X-ALT-DESC;FMTTYPE=text/html:<p><span style="font-size: 13.3333px\;"><strong>Chamber. Coffee. Connect</strong></span><br />\n<br />\n<span style="font-size: 13.3333px\;"><strong><em>Formally - New Member Orientation</em></strong><br />\nThis program is to provide our new member&rsquo\;s businesses an opportunity to learn about the Chamber&rsquo\;s programs and how to best utilize their membership\, and to network with other Chamber members<br />\n<strong>This program is a Chamber Member only program.</strong></span></p>\n
LOCATION:Ormond Beach Chamber of Commerce Board Room
UID:e.2974.25136
SEQUENCE:3
DTSTAMP:20260422T202704Z
URL:https://business.ormondchamber.com/events/details/chamber-coffee-connect-25136
END:VEVENT

END:VCALENDAR
