BEGIN:VCALENDAR
VERSION:2.0
PRODID:-//ChamberMaster//Event Calendar 2.0//EN
METHOD:PUBLISH
X-PUBLISHED-TTL:P3D
REFRESH-INTERVAL:P3D
CALSCALE:GREGORIAN
BEGIN:VEVENT
DTSTART:20170510T210000Z
DTEND:20170510T230000Z
X-MICROSOFT-CDO-ALLDAYEVENT:FALSE
SUMMARY:Business Sparkler Brookdale Ormond Beach
DESCRIPTION:Brookdale Business After Hours Sparkler
X-ALT-DESC;FMTTYPE=text/html:<span style="font-size:20px\;"><span style="font-family:comic sans ms\;">Brookdale&nbsp\;Business After Hours Sparkler</span></span>
LOCATION:Brookdale Senior Living Solutions 550 Wilmette Avenue Ormond Beach
UID:e.2974.1465
SEQUENCE:3
DTSTAMP:20260424T184303Z
URL:https://business.ormondchamber.com/events/details/business-sparkler-brookdale-ormond-beach-1465
END:VEVENT

END:VCALENDAR
