BEGIN:VCALENDAR
VERSION:2.0
PRODID:-//ChamberMaster//Event Calendar 2.0//EN
METHOD:PUBLISH
X-PUBLISHED-TTL:P3D
REFRESH-INTERVAL:P3D
CALSCALE:GREGORIAN
BEGIN:VEVENT
DTSTART:20170728T130000Z
DTEND:20170728T210000Z
X-MICROSOFT-CDO-ALLDAYEVENT:FALSE
SUMMARY:Board Room Booked
DESCRIPTION:Board Room Booked-Trish
X-ALT-DESC;FMTTYPE=text/html:Board Room Booked-Trish
LOCATION:
UID:e.2974.4091
SEQUENCE:3
DTSTAMP:20260424T155252Z
URL:https://business.ormondchamber.com/events/details/board-room-booked-4091
END:VEVENT

END:VCALENDAR
