BEGIN:VCALENDAR
VERSION:2.0
PRODID:-//ChamberMaster//Event Calendar 2.0//EN
METHOD:PUBLISH
X-PUBLISHED-TTL:P3D
REFRESH-INTERVAL:P3D
CALSCALE:GREGORIAN
BEGIN:VEVENT
DTSTART:20170614T134500Z
DTEND:20170614T160000Z
X-MICROSOFT-CDO-ALLDAYEVENT:FALSE
SUMMARY:Board Room Booked
DESCRIPTION:Board Room Booked-D. Cotton
X-ALT-DESC;FMTTYPE=text/html:Board Room Booked-D. Cotton
LOCATION:
UID:e.2974.2651
SEQUENCE:3
DTSTAMP:20260424T165003Z
URL:https://business.ormondchamber.com/events/details/board-room-booked-2651
END:VEVENT

END:VCALENDAR
