BEGIN:VCALENDAR
VERSION:2.0
PRODID:-//ChamberMaster//Event Calendar 2.0//EN
METHOD:PUBLISH
X-PUBLISHED-TTL:P3D
REFRESH-INTERVAL:P3D
CALSCALE:GREGORIAN
BEGIN:VEVENT
DTSTART:20170511T190000Z
DTEND:20170511T210000Z
X-MICROSOFT-CDO-ALLDAYEVENT:FALSE
SUMMARY:Board room Booked
DESCRIPTION:Trish's Meeting
X-ALT-DESC;FMTTYPE=text/html:Trish&#39\;s Meeting
LOCATION:
UID:e.2974.2398
SEQUENCE:3
DTSTAMP:20260424T183340Z
URL:https://business.ormondchamber.com/events/details/board-room-booked-2398
END:VEVENT

END:VCALENDAR
