BEGIN:VCALENDAR
VERSION:2.0
PRODID:-//ChamberMaster//Event Calendar 2.0//EN
METHOD:PUBLISH
X-PUBLISHED-TTL:P3D
REFRESH-INTERVAL:P3D
CALSCALE:GREGORIAN
BEGIN:VEVENT
DTSTART:20170505T170000Z
DTEND:20170505T210000Z
X-MICROSOFT-CDO-ALLDAYEVENT:FALSE
SUMMARY:Board Room Booked
DESCRIPTION:Trish's Meeting.
X-ALT-DESC;FMTTYPE=text/html:Trish&#39\;s Meeting.
LOCATION:
UID:e.2974.2397
SEQUENCE:3
DTSTAMP:20260424T202106Z
URL:https://business.ormondchamber.com/events/details/board-room-booked-2397
END:VEVENT

END:VCALENDAR
