BEGIN:VCALENDAR
VERSION:2.0
PRODID:-//ChamberMaster//Event Calendar 2.0//EN
METHOD:PUBLISH
X-PUBLISHED-TTL:P3D
REFRESH-INTERVAL:P3D
CALSCALE:GREGORIAN
BEGIN:VEVENT
DTSTART:20170623T150000Z
DTEND:20170623T170000Z
X-MICROSOFT-CDO-ALLDAYEVENT:FALSE
SUMMARY:Board Room Booked
DESCRIPTION:Private Meeting-Mayor's Lunch
X-ALT-DESC;FMTTYPE=text/html:Private Meeting-Mayor&#39\;s Lunch
LOCATION:
UID:e.2974.1468
SEQUENCE:3
DTSTAMP:20260424T164917Z
URL:https://business.ormondchamber.com/events/details/board-room-booked-1468
END:VEVENT

END:VCALENDAR
