BEGIN:VCALENDAR
VERSION:2.0
PRODID:-//ChamberMaster//Event Calendar 2.0//EN
METHOD:PUBLISH
X-PUBLISHED-TTL:P3D
REFRESH-INTERVAL:P3D
CALSCALE:GREGORIAN
BEGIN:VEVENT
DTSTART:20170525T120000Z
DTEND:20170525T130000Z
X-MICROSOFT-CDO-ALLDAYEVENT:FALSE
SUMMARY:Board Meeting
DESCRIPTION:Board Meeting
X-ALT-DESC;FMTTYPE=text/html:Board Meeting
LOCATION:165 W. Granada Ormond Beach
UID:e.2974.2360
SEQUENCE:3
DTSTAMP:20260424T183258Z
URL:https://business.ormondchamber.com/events/details/board-meeting-2360
END:VEVENT

END:VCALENDAR
