BEGIN:VCALENDAR
VERSION:2.0
PRODID:-//ChamberMaster//Event Calendar 2.0//EN
METHOD:PUBLISH
X-PUBLISHED-TTL:P3D
REFRESH-INTERVAL:P3D
CALSCALE:GREGORIAN
BEGIN:VEVENT
DTSTART:20170601T153000Z
DTEND:20170601T170000Z
X-MICROSOFT-CDO-ALLDAYEVENT:FALSE
SUMMARY:June Ambassador Lunch Daytona Pig Stand
DESCRIPTION:Daytona Pig Stand!\n\nAmbassador Lunch
X-ALT-DESC;FMTTYPE=text/html:Daytona Pig Stand!<br />\nAmbassador Lunch
LOCATION:1633 US - 1 Ormond Beach
UID:e.2974.2378
SEQUENCE:3
DTSTAMP:20260424T165535Z
URL:https://business.ormondchamber.com/events/details/ambassador-lunch-daytona-pig-stand-2378
END:VEVENT

END:VCALENDAR
