BEGIN:VCALENDAR
VERSION:2.0
PRODID:-//ChamberMaster//Event Calendar 2.0//EN
METHOD:PUBLISH
X-PUBLISHED-TTL:P3D
REFRESH-INTERVAL:P3D
CALSCALE:GREGORIAN
BEGIN:VEVENT
DTSTART:20170803T153000Z
DTEND:20170803T170000Z
X-MICROSOFT-CDO-ALLDAYEVENT:FALSE
SUMMARY:Ambassador Lunch
DESCRIPTION:Ambassador Lunch
X-ALT-DESC;FMTTYPE=text/html:Ambassador Lunch
LOCATION:Homewood Suites-Daytona Beach Speedway Airport 165 Bill France Blvd. Daytona Beach\, FL 32114
UID:e.2974.2418
SEQUENCE:3
DTSTAMP:20260424T135044Z
URL:https://business.ormondchamber.com/events/details/ambassador-lunch-2418
END:VEVENT

END:VCALENDAR
