BEGIN:VCALENDAR
VERSION:2.0
PRODID:-//ChamberMaster//Event Calendar 2.0//EN
METHOD:PUBLISH
X-PUBLISHED-TTL:P3D
REFRESH-INTERVAL:P3D
CALSCALE:GREGORIAN
BEGIN:VEVENT
DTSTART:20170504T160000Z
DTEND:20170504T170000Z
X-MICROSOFT-CDO-ALLDAYEVENT:FALSE
SUMMARY:Ambassador Lunch
DESCRIPTION:Ambassador Monthly Lunch Meeting
X-ALT-DESC;FMTTYPE=text/html:Ambassador Monthly Lunch Meeting
LOCATION:Riverbend Golf Course Restaurant 730 Airport Road Ormond Beach
UID:e.2974.1466
SEQUENCE:3
DTSTAMP:20260424T202025Z
URL:https://business.ormondchamber.com/events/details/ambassador-lunch-1466
END:VEVENT

END:VCALENDAR
