BEGIN:VCALENDAR
VERSION:2.0
PRODID:-//ChamberMaster//Event Calendar 2.0//EN
METHOD:PUBLISH
X-PUBLISHED-TTL:P3D
REFRESH-INTERVAL:P3D
CALSCALE:GREGORIAN
BEGIN:VEVENT
DTSTART:20250307T133000Z
DTEND:20250307T170000Z
X-MICROSOFT-CDO-ALLDAYEVENT:FALSE
SUMMARY:Alliance4 Spring Leadership Event
DESCRIPTION:Join us for the Alliance4 Spring Leadership Event\, brought to you by CareerSource Brevard Flagler Volusia. Alliance4 brings together leaders from local businesses\, education\, workforce development\, and economic development to address the current and future needs of our local workforce. Take part in interactive presentations to help build our local economy and talent pipeline and connect with leaders across the region.\n\n\n\nThis year's featured keynote speaker is Ron Hetrick\, Senior Labor Economist and VP of Staffing Product at Lightcast. With 30 years' experience in labor economics\, Hetrick is a leading expert in the current state of the U.S. labor market. Hetrick has also provided analysis for prior Fed Chairman Alan Greenspan\, The Council of Economic Advisors to the President\, Congress\, and numerous Fortune 100 companies and trade associations.\n\n\n\nREGISTER HERE \n\nhttps://www.eventbrite.com/e/alliance4-tickets-1205874977519?aff=oddtdtcreator
X-ALT-DESC;FMTTYPE=text/html:<span style="font-family:arial\,sans-serif"><span style="font-size:11.0pt">Join us for the Alliance4 Spring Leadership Event\, brought to you by CareerSource Brevard Flagler Volusia. Alliance4 brings together leaders from local businesses\, education\, workforce development\, and economic development to address the current and future needs of our local workforce. Take part in interactive presentations to help build our local economy and talent pipeline and connect with leaders across the region.<br />\n<br />\nThis year&rsquo\;s featured keynote speaker is Ron Hetrick\, Senior Labor Economist and VP of Staffing Product at Lightcast. With 30 years&rsquo\; experience in labor economics\, Hetrick is a leading expert in the current state of the U.S. labor market. Hetrick has also provided analysis for prior Fed Chairman Alan Greenspan\, The Council of Economic Advisors to the President\, Congress\, and numerous Fortune 100 companies and trade associations.</span></span><br />\n<br />\n<span style="color:#FF0000"><strong>REGISTER HERE </strong></span><br />\n<a href="https://www.eventbrite.com/e/alliance4-tickets-1205874977519?aff=oddtdtcreator">https://www.eventbrite.com/e/alliance4-tickets-1205874977519?aff=oddtdtcreator</a>
LOCATION:Mori Hosseini Center Ballroom 1200 International Speedway Blvd. Daytona Beach\, FL 32114
UID:e.2974.24561
SEQUENCE:3
DTSTAMP:20260424T114508Z
URL:https://business.ormondchamber.com/events/details/alliance4-spring-leadership-event-24561
END:VEVENT

END:VCALENDAR
