BEGIN:VCALENDAR
VERSION:2.0
PRODID:-//ChamberMaster//Event Calendar 2.0//EN
METHOD:PUBLISH
X-PUBLISHED-TTL:P3D
REFRESH-INTERVAL:P3D
CALSCALE:GREGORIAN
BEGIN:VEVENT
DTSTART:20251214T220000Z
DTEND:20251215T010000Z
X-MICROSOFT-CDO-ALLDAYEVENT:FALSE
SUMMARY:2nd Annual Candy Cane Lane
DESCRIPTION:Experience the magic of Christmas at Candy Cane Lane at Calvary! Join us for a festive evening filled with holiday cheer for the whole family. Each child will receive a free stocking and have a chance to decorate it at our stocking station! Delight in a live outdoor Christmas concert with CWL Live\, take a ride on our holiday train\, and enjoy a 100% chance of snow in Florida! The fun doesn't stop there face painting\, a petting zoo\, food trucks\, and hot chocolate will keep everyone in the spirit. Plus\, enjoy a special Christmas Trunk or Treat with goodies for all! Don't miss this free\, joy-filled event bring your family and friends for an unforgettable night at Calvary!
X-ALT-DESC;FMTTYPE=text/html:Experience the magic of Christmas at Candy Cane Lane at Calvary! Join us for a festive evening filled with holiday cheer for the whole family. Each child will receive a free stocking and have a chance to decorate it at our stocking station! Delight in a live outdoor Christmas concert with CWL Live\, take a ride on our holiday train\, and enjoy a 100% chance of snow in Florida! The fun doesn&rsquo\;t stop there&mdash\;face painting\, a petting zoo\, food trucks\, and hot chocolate will keep everyone in the spirit. Plus\, enjoy a special Christmas Trunk or Treat with goodies for all! Don&rsquo\;t miss this free\, joy-filled event&mdash\;bring your family and friends for an unforgettable night at Calvary!
LOCATION:1687 W Granada Blvd\, Ormond Beach\, FL 32174
UID:e.2974.25134
SEQUENCE:3
DTSTAMP:20260424T101935Z
URL:https://business.ormondchamber.com/events/details/2nd-annual-candy-cane-lane-25134
END:VEVENT

END:VCALENDAR
