BEGIN:VCALENDAR
VERSION:2.0
PRODID:-//ChamberMaster//Event Calendar 2.0//EN
METHOD:PUBLISH
X-PUBLISHED-TTL:P3D
REFRESH-INTERVAL:P3D
CALSCALE:GREGORIAN
BEGIN:VEVENT
DTSTART:20250329T130000Z
DTEND:20250426T160000Z
X-MICROSOFT-CDO-ALLDAYEVENT:FALSE
SUMMARY:2025 Mayor's Health & Fitness Challenge
DESCRIPTION:Get ready to move\, challenge yourself\, and have fun with the 2025 Mayor's Health & Fitness Challenge! This four-week initiative is open to all fitness levels. The challenge includes group fitness classes\, wellness activities\, and the opportunity to win cash prizes. Prizes will be awarded to one champion in each men's\, women's\, and children's (17 and under) category\, based on the most significant reduction in BMI (Body Mass Index). The Kick-off & Weigh-in Celebration is Saturday\, March 29\, 2025 from 9 AM to 12 PM at the Joe and Elwillie Daniels South Ormond Neighborhood Center (176 Division Avenue). Age Categories:   17 and under   18-29   30-39   40-49   50-59   60-69   70-79   80 and older To compete for cash prizes\, participants must weigh in at the Kick-off event on March 29 and weigh out at the final event.
X-ALT-DESC;FMTTYPE=text/html:Get ready to move\, challenge yourself\, and have fun with the 2025 Mayor&rsquo\;s Health &amp\; Fitness Challenge! This four-week initiative is open to all fitness levels. The challenge includes group fitness classes\, wellness activities\, and the opportunity to win cash prizes. Prizes will be awarded to one champion in each men&rsquo\;s\, women&rsquo\;s\, and children&rsquo\;s (17 and under) category\, based on the most significant reduction in BMI (Body Mass Index). The Kick-off &amp\; Weigh-in Celebration is Saturday\, March 29\, 2025 from 9 AM to 12 PM at the Joe and Elwillie Daniels South Ormond Neighborhood Center (176 Division Avenue). Age Categories: &bull\; 17 and under &bull\; 18-29 &bull\; 30-39 &bull\; 40-49 &bull\; 50-59 &bull\; 60-69 &bull\; 70-79 &bull\; 80 and older To compete for cash prizes\, participants must weigh in at the Kick-off event on March 29 and weigh out at the final event.
LOCATION:Kick-Off- South Ormond Neighborhood Center\, 176 Division Avenue Classes-Ormond Facilities and parks
UID:e.2974.24579
SEQUENCE:3
DTSTAMP:20260424T114954Z
URL:https://business.ormondchamber.com/events/details/2025-mayor-s-health-fitness-challenge-24579
END:VEVENT

END:VCALENDAR
