BEGIN:VCALENDAR
VERSION:2.0
PRODID:-//ChamberMaster//Event Calendar 2.0//EN
METHOD:PUBLISH
X-PUBLISHED-TTL:P3D
REFRESH-INTERVAL:P3D
CALSCALE:GREGORIAN
BEGIN:VEVENT
DTSTART:20260426T140000Z
DTEND:20260429T000000Z
X-MICROSOFT-CDO-ALLDAYEVENT:FALSE
SUMMARY:Revival Camp Meeting
DESCRIPTION:We are expecting in this season for outpouring and revival fire! There are no limits on what God can do for you and in you during these 3 days! Join us for 3 nights of encounter at Calvary! Share this and come expecting! Schedule: Christa Smith will be ministering Sunday morning and Sunday night at 10am & 6pm (April 26th). Bishop S.Y. Younger will be ministering Monday night at 6:30pm (April 27th). Bishop Kevin Wallace will be ministering Tuesday night at 6:30pm (April 28th). Bring your family\, invite a friend\, and join us for Revival Camp Meeting at Calvary as we seek God together for a fresh move of His Spirit!
X-ALT-DESC;FMTTYPE=text/html:We are expecting in this season for outpouring and revival fire! There are no limits on what God can do for you and in you during these 3 days! Join us for 3 nights of encounter at Calvary! Share this and come expecting! Schedule: Christa Smith will be ministering Sunday morning and Sunday night at 10am &amp\; 6pm (April 26th). Bishop S.Y. Younger will be ministering Monday night at 6:30pm (April 27th). Bishop Kevin Wallace will be ministering Tuesday night at 6:30pm (April 28th). Bring your family\, invite a friend\, and join us for Revival Camp Meeting at Calvary as we seek God together for a fresh move of His Spirit!
LOCATION:Calvary Christian Center\, 1687 W Granada Blvd\, Ormond Beach\, FL 32174
UID:e.2974.25749
SEQUENCE:3
DTSTAMP:20260422T192618Z
URL:http://business.ormondchamber.com/events/details/revival-camp-meeting-25749
END:VEVENT

END:VCALENDAR
